BEGIN:VCALENDAR
VERSION:2.0
PRODID:-//Kulturbegleitung Chemnitz – Gemeinsam Kultur erleben - ECPv6.15.15//NONSGML v1.0//EN
CALSCALE:GREGORIAN
METHOD:PUBLISH
X-WR-CALNAME:Kulturbegleitung Chemnitz – Gemeinsam Kultur erleben
X-ORIGINAL-URL:https://www.kulturbegleitung-chemnitz.de
X-WR-CALDESC:Veranstaltungen für Kulturbegleitung Chemnitz – Gemeinsam Kultur erleben
REFRESH-INTERVAL;VALUE=DURATION:PT1H
X-Robots-Tag:noindex
X-PUBLISHED-TTL:PT1H
BEGIN:VTIMEZONE
TZID:Europe/Berlin
BEGIN:DAYLIGHT
TZOFFSETFROM:+0100
TZOFFSETTO:+0200
TZNAME:CEST
DTSTART:20250330T010000
END:DAYLIGHT
BEGIN:STANDARD
TZOFFSETFROM:+0200
TZOFFSETTO:+0100
TZNAME:CET
DTSTART:20251026T010000
END:STANDARD
BEGIN:DAYLIGHT
TZOFFSETFROM:+0100
TZOFFSETTO:+0200
TZNAME:CEST
DTSTART:20260329T010000
END:DAYLIGHT
BEGIN:STANDARD
TZOFFSETFROM:+0200
TZOFFSETTO:+0100
TZNAME:CET
DTSTART:20261025T010000
END:STANDARD
BEGIN:DAYLIGHT
TZOFFSETFROM:+0100
TZOFFSETTO:+0200
TZNAME:CEST
DTSTART:20270328T010000
END:DAYLIGHT
BEGIN:STANDARD
TZOFFSETFROM:+0200
TZOFFSETTO:+0100
TZNAME:CET
DTSTART:20271031T010000
END:STANDARD
END:VTIMEZONE
BEGIN:VEVENT
DTSTART;VALUE=DATE:20260301
DTEND;VALUE=DATE:20260902
DTSTAMP:20260422T123946
CREATED:20260227T130754Z
LAST-MODIFIED:20260227T130754Z
UID:1456-1772323200-1788307199@www.kulturbegleitung-chemnitz.de
SUMMARY:Stammtisch Teilhabe Kultur 18:00
DESCRIPTION:Jeden ersten Montag im Monat findet der Stammtisch Teilhabe Kultur. Kulturbegleitung statt. Ob im wunderschönen Hof oder im Studio des Weltechos ist wetterabhängig. \nKomm vorbei und stelle deine Fragen\, sprich über deine Anregungen\, Wünsche und Gedanken. \nAlle kann – Nichts muss bei Teilhabe Kultur. Kulturbegleitung
URL:https://www.kulturbegleitung-chemnitz.de/event/stammtisch-teilhabe-kultur-1800/
LOCATION:Weltecho\, Annaberger Str. 24\, Chemnitz\, 09111\, Germany
END:VEVENT
BEGIN:VEVENT
DTSTART;VALUE=DATE:20260323
DTEND;VALUE=DATE:20260929
DTSTAMP:20260422T123946
CREATED:20260318T144554Z
LAST-MODIFIED:20260318T144554Z
UID:1509-1774224000-1790639999@www.kulturbegleitung-chemnitz.de
SUMMARY:Community Chor Chemnitz 18:00 bis 19:30
DESCRIPTION:Jeden Montag heißt es:\nOffenes Singen mit leichten Songs aus verschiedenen Sprachen. \nSingen können alle! Gemeinsames Singen auf verschiedenen Sprachen\, ohne Noten – keine musikalische Vorkenntnisse erforderlich! Es geht um die Freude am Singen\, die Begegnung auf Augenhöhe und das einander Kennenlernen! \nKeine Vorkenntnisse erforderlich.\nTeilnahme ist kostenlos.\nKeine Anmeldung erforderlich – komm einfach vorbei! \nUnsere Terminplanung wird alle drei Monate aktualisiert – es folgen weitere Termine im Jahr 2026! \nDer Raum ist barrierefrei zugänglich und hat eine barrierefreie Toilette.
URL:https://www.kulturbegleitung-chemnitz.de/event/community-chor-chemnitz-1800-bis-1930/
LOCATION:Stadtwirtschaft\, Jakobstraße\, Brücke\, neben Nr. 46\, 09130 Chemnitz
END:VEVENT
BEGIN:VEVENT
DTSTART;VALUE=DATE:20260324
DTEND;VALUE=DATE:20260930
DTSTAMP:20260422T123946
CREATED:20260318T144145Z
LAST-MODIFIED:20260318T144145Z
UID:1507-1774310400-1790726399@www.kulturbegleitung-chemnitz.de
SUMMARY:Streetband Sonnenberg 19:00 bis 20:30
DESCRIPTION:Jeden Dienstag heißt es:\nOffene Workshops mit Trommeln & Blasinstrumenten \nMit Trommeln und Blasinstrumenten werden wir laut! Wir spielen Songs aus aller Welt mit coolen Grooves. Gemeinsam entscheiden und entwickeln wir Rhythmen oder vielleicht auch unser Outfit und bereiten einen ersten Auftritt vor! Ganz egal ob ihr musikalische Vorkenntnisse habt oder nicht\, wir brauchen beides in dieser Streetband\, denn erst wenn vielfältige Stimmen zusammenkommen\, klingt es schön! \nKeine Vorkenntnisse erforderlich.\nTeilnahme ist kostenlos.\nKeine Anmeldung erforderlich – komm einfach vorbei!\nTrommeln werden gestellt.
URL:https://www.kulturbegleitung-chemnitz.de/event/streetband-sonnenberg-1900-bis-2030-3/
LOCATION:Lokomov\, Augustusburger Straße 102\, 09126 Chemnitz
END:VEVENT
BEGIN:VEVENT
DTSTART;VALUE=DATE:20260529
DTEND;VALUE=DATE:20260530
DTSTAMP:20260422T123946
CREATED:20260416T095056Z
LAST-MODIFIED:20260416T095056Z
UID:1534-1780012800-1780099199@www.kulturbegleitung-chemnitz.de
SUMMARY:Gesellschaft mit Beschränkter Hoffnung 19:00
DESCRIPTION:Die unglaubliche Geschichte einer gelebten Utopie mitten in der DDR: die »Krüppelkommune« von Hartroda. Ausgezeichnet mit dem Matthias-Vernaldi-Preis für selbstbestimmtes Leben 2025. Lesung mit Karsten Krampitz. In Kooperation mit dem Evangelischem Forum Chemnitz. Moderiert von Marten Henning. \nArnstadt\, Thüringen\, Ende der 70er Jahre. In einem Heim für behinderte Jugendliche beschließen vier Freunde\, die sich kaum bewegen können: Wir brechen aus. Von Rente und Pflegegeld wollen sie sich Pfleger finanzieren\, ein Haus bekommen sie von der Kirche – das alte Pfarrhaus in Hartroda\, im Altenburger Land.\nSo beginnt die Geschichte einer Kommune\, die völlig aus der Zeit und aus dem Land gefallen ist. Die einen bekommen Hilfe\, die anderen Asyl – vor der Schinderei im Staatsbetrieb\, vor einem Leben im stupiden Kreislauf von Arbeiten\, Saufen\, Schlafen. Eine Gemeinschaft der Gleichen\, in der alles geteilt wird – Geld und Bücher\, Platten und Bier\, aber auch alle Gebrechen. Eine Gemeinschaft der Aussortierten\, die sich mit Witz und Chuzpe das Undenkbare erkämpft: ein selbstbestimmtes Leben\, vielleicht sogar Freiheit. Unter dem Schirm der Kirche wird sie\, so scheint es zumindest\, vom DDR-Apparat in Ruhe gelassen.\nIntellektueller Kopf der Gemeinschaft ist Gruns. Er wird vom schweigsamen Mozek gepflegt\, der vom Dachboden aus internationale Fernschachturniere bestreitet und sich über seine Vergangenheit bedeckt hält. Denn Mozek\, ehemaliger Grenzer\, ist auf der Flucht vor der eigenen Schuld.\nIch hab meine Sache auf nix eingestellt / auf gar nix\, überhaupt nix\, heißt es in einem Lied der Band Mischpoke\, die zum Freundeskreis der Kommune gehört. Als die DDR zusammenbricht\, wird deutlich\, dass es auch die Mauer war\, die die Gemeinschaft von Hartroda zusammengehalten hat. \nModeriert von Marten Henning. \nDer Eintritt ist frei. Eine Voranmeldung ist erwünscht über info.BaB@posteo.de oder 0371-27868944
URL:https://www.kulturbegleitung-chemnitz.de/event/gesellschaft-mit-beschraenkter-hoffnung-1900/
LOCATION:Buchhandlung am Brühl\, Elisenstraße 5\, 09111 Chemnitz\, Germany
END:VEVENT
BEGIN:VEVENT
DTSTART;TZID=Europe/Berlin:20260529T170000
DTEND;TZID=Europe/Berlin:20260531T230000
DTSTAMP:20260422T123946
CREATED:20260416T095619Z
LAST-MODIFIED:20260416T095619Z
UID:1539-1780074000-1780268400@www.kulturbegleitung-chemnitz.de
SUMMARY:Hutfestival
DESCRIPTION:Das Festival der Straßenkunst\nDas 9. HUTFESTIVAL – das Festival der Straßenkunst\, verwandelt vom 29. bis 31. Mai 2026 drei Tage lang die Gassen und Plätze in der Chemnitzer Innenstadt in eine große Freilichtbühne voller Live-Musik\, Clownerie\, Artistik\, Jonglage\, Feuershows\, Walk-Acts\, Kunst und Streetfood. Mit vielseitigen Straßenkünstlern und Acts aus vielen europäischen Nationen\, darunter auch lokale Künstler\, verspricht das Festival ein Spektakel voller Überraschungen\, Staunen und Magie. An jeder Ecke entdeckt man Witziges\, Unterhaltsames\, Berührendes\, Kunstvolles sowie Kulinarisches. \nStart:  29. Mai ab 17:00\, 30. Mai ab 13:00\, 31. Mai ab 13:00 \n 
URL:https://www.kulturbegleitung-chemnitz.de/event/hutfestival/
LOCATION:Chemnitz\, Innenstadt
END:VEVENT
END:VCALENDAR