BEGIN:VCALENDAR
VERSION:2.0
PRODID:-//Kulturbegleitung Chemnitz – Gemeinsam Kultur erleben - ECPv6.15.15//NONSGML v1.0//EN
CALSCALE:GREGORIAN
METHOD:PUBLISH
X-ORIGINAL-URL:https://www.kulturbegleitung-chemnitz.de
X-WR-CALDESC:Veranstaltungen für Kulturbegleitung Chemnitz – Gemeinsam Kultur erleben
REFRESH-INTERVAL;VALUE=DURATION:PT1H
X-Robots-Tag:noindex
X-PUBLISHED-TTL:PT1H
BEGIN:VTIMEZONE
TZID:Europe/Berlin
BEGIN:DAYLIGHT
TZOFFSETFROM:+0100
TZOFFSETTO:+0200
TZNAME:CEST
DTSTART:20250330T010000
END:DAYLIGHT
BEGIN:STANDARD
TZOFFSETFROM:+0200
TZOFFSETTO:+0100
TZNAME:CET
DTSTART:20251026T010000
END:STANDARD
BEGIN:DAYLIGHT
TZOFFSETFROM:+0100
TZOFFSETTO:+0200
TZNAME:CEST
DTSTART:20260329T010000
END:DAYLIGHT
BEGIN:STANDARD
TZOFFSETFROM:+0200
TZOFFSETTO:+0100
TZNAME:CET
DTSTART:20261025T010000
END:STANDARD
BEGIN:DAYLIGHT
TZOFFSETFROM:+0100
TZOFFSETTO:+0200
TZNAME:CEST
DTSTART:20270328T010000
END:DAYLIGHT
BEGIN:STANDARD
TZOFFSETFROM:+0200
TZOFFSETTO:+0100
TZNAME:CET
DTSTART:20271031T010000
END:STANDARD
END:VTIMEZONE
BEGIN:VEVENT
DTSTART;VALUE=DATE:20260301
DTEND;VALUE=DATE:20260902
DTSTAMP:20260422T125322
CREATED:20260227T130754Z
LAST-MODIFIED:20260227T130754Z
UID:1456-1772323200-1788307199@www.kulturbegleitung-chemnitz.de
SUMMARY:Stammtisch Teilhabe Kultur 18:00
DESCRIPTION:Jeden ersten Montag im Monat findet der Stammtisch Teilhabe Kultur. Kulturbegleitung statt. Ob im wunderschönen Hof oder im Studio des Weltechos ist wetterabhängig. \nKomm vorbei und stelle deine Fragen\, sprich über deine Anregungen\, Wünsche und Gedanken. \nAlle kann – Nichts muss bei Teilhabe Kultur. Kulturbegleitung
URL:https://www.kulturbegleitung-chemnitz.de/event/stammtisch-teilhabe-kultur-1800/
LOCATION:Weltecho\, Annaberger Str. 24\, Chemnitz\, 09111\, Germany
END:VEVENT
BEGIN:VEVENT
DTSTART;VALUE=DATE:20260310
DTEND;VALUE=DATE:20260311
DTSTAMP:20260422T125322
CREATED:20260227T131728Z
LAST-MODIFIED:20260227T131728Z
UID:1461-1773100800-1773187199@www.kulturbegleitung-chemnitz.de
SUMMARY:Streetband Sonnenberg 19:00
DESCRIPTION:Offene Workshops mit Trommeln & Blasinstrumenten \nMit Trommeln und Blasinstrumenten werden wir laut! Wir spielen Songs aus aller Welt mit coolen Grooves. Gemeinsam entscheiden und entwickeln wir Rhythmen oder vielleicht auch unser Outfit und bereiten einen ersten Auftritt vor! Ganz egal ob ihr musikalische Vorkenntnisse habt oder nicht\, wir brauchen beides in dieser Streetband\, denn erst wenn vielfältige Stimmen zusammenkommen\, klingt es schön! \nKeine Vorkenntnisse erforderlich.\nTeilnahme ist kostenlos.\nKeine Anmeldung erforderlich – komm einfach vorbei!\nTrommeln werden gestellt.
URL:https://www.kulturbegleitung-chemnitz.de/event/streetband-sonnenberg-1900/
LOCATION:Lokomov\, Augustusburger Straße 102\, 09126 Chemnitz
END:VEVENT
END:VCALENDAR