BEGIN:VCALENDAR
VERSION:2.0
PRODID:-//Kulturbegleitung Chemnitz – Gemeinsam Kultur erleben - ECPv6.15.15//NONSGML v1.0//EN
CALSCALE:GREGORIAN
METHOD:PUBLISH
X-ORIGINAL-URL:https://www.kulturbegleitung-chemnitz.de
X-WR-CALDESC:Veranstaltungen für Kulturbegleitung Chemnitz – Gemeinsam Kultur erleben
REFRESH-INTERVAL;VALUE=DURATION:PT1H
X-Robots-Tag:noindex
X-PUBLISHED-TTL:PT1H
BEGIN:VTIMEZONE
TZID:Europe/Berlin
BEGIN:DAYLIGHT
TZOFFSETFROM:+0100
TZOFFSETTO:+0200
TZNAME:CEST
DTSTART:20250330T010000
END:DAYLIGHT
BEGIN:STANDARD
TZOFFSETFROM:+0200
TZOFFSETTO:+0100
TZNAME:CET
DTSTART:20251026T010000
END:STANDARD
BEGIN:DAYLIGHT
TZOFFSETFROM:+0100
TZOFFSETTO:+0200
TZNAME:CEST
DTSTART:20260329T010000
END:DAYLIGHT
BEGIN:STANDARD
TZOFFSETFROM:+0200
TZOFFSETTO:+0100
TZNAME:CET
DTSTART:20261025T010000
END:STANDARD
BEGIN:DAYLIGHT
TZOFFSETFROM:+0100
TZOFFSETTO:+0200
TZNAME:CEST
DTSTART:20270328T010000
END:DAYLIGHT
BEGIN:STANDARD
TZOFFSETFROM:+0200
TZOFFSETTO:+0100
TZNAME:CET
DTSTART:20271031T010000
END:STANDARD
END:VTIMEZONE
BEGIN:VEVENT
DTSTART;VALUE=DATE:20260215
DTEND;VALUE=DATE:20260216
DTSTAMP:20260422T130049
CREATED:20260204T123913Z
LAST-MODIFIED:20260204T124541Z
UID:1430-1771113600-1771199999@www.kulturbegleitung-chemnitz.de
SUMMARY:Chemnitzer FC - : - 1. FC Lok Leipzig 16:00
DESCRIPTION:22. Spieltag // Regionalliga Nordost\n\n\n\n🎫 Heimspiel-Highlight – Jubiläumsspiel gegen den Herbst- & Vorjahresmeister! 🎫 \nAm Spieltag im eins-Stadion – An der Gellertstraße wartet ein echtes Fußball-Highlight auf euch: \nUnser Chemnitzer FC empfängt den 1. FC Lokomotive Leipzig – Herbstmeister und amtierender Meister der Regionalliga Nordost! \nDieses Spiel ist mehr als nur ein Topduell: \nWir feiern 60 Jahre FCK/CFC – ein großes Jubiläumsspiel mit vielen besonderen Aktionen rund um das Stadion und den Spieltag. Tradition\, Emotionen und Gänsehaut-Momente garantiert! 🔵⚪ \n🎯 Gemeinsames Ziel: 9.066 Zuschauer! \nLasst uns dieses Jubiläum zu einem unvergesslichen Erlebnis machen und gemeinsam zeigen\, was die himmelblaue Fußballfamilie bewegen kann. Packen wir es an! \n💥 Besondere Ticketaktionen sind geplant – es lohnt sich also doppelt\, dabei zu sein. \nStimmung. Leidenschaft. Geschichte. \nSeid im Stadion\, unterstützt unser Team gegen einen absoluten Topgegner und setzt gemeinsam mit uns ein starkes Zeichen für unseren Verein! \n📍 Chemnitzer FC vs. 1. FC Lok Leipzig 📆 Sonntag\, 15.02.2026 | 16:00 Uhr 📌 eins-Stadion – An der Gellertstraße \n👉 Jetzt Tickets sichern und Teil unsers himmelblauen Vereinsjubiläums werden! \nTickets gibt es hier: https://tickets.chemnitzerfc.de/event/chemnitzer-fc-vs-1-fc-lok-leipzig-nqs2sv \nNur zusammen sind wir himmelblau. Für den CFC. Für Chemnitz. \n\n\n\nFeb.15\nEinlass14:30
URL:https://www.kulturbegleitung-chemnitz.de/event/chemnitzer-fc-1-fc-lok-leipzig-1600/
LOCATION:Stadion an der Gellertstr.\, Gellertstr. 25\, 09130 Chemnitz
END:VEVENT
END:VCALENDAR